BEGIN:VCALENDAR
VERSION:2.0
PRODID:-//wp-events-plugin.com//6.6.4.4.2//EN
TZID:Europe/Berlin
X-WR-TIMEZONE:Europe/Berlin
BEGIN:VEVENT
UID:0-1105@optonet-jena.de
DTSTART;TZID=Europe/Berlin:20250909T170000
DTEND;TZID=Europe/Berlin:20250909T190000
DTSTAMP:20250909T110703Z
URL:https://optonet-jena.de/events/510-jenaer-optikkolloquium-%c2%b7-prof-
 dr-aydogan-ozcan/
SUMMARY:510. JENAer Optikkolloquium · Prof. Dr. Aydogan Ozcan
DESCRIPTION:\nSeit Mai 2018 findet das traditionelle JENAer Carl-Zeiss-Opti
 kkolloquium als JENAer Optikkolloquium am Abbe Center of Photonics auf dem
  Beutenberg Campus Jena und online statt. Es ist offen für alle Interessi
 erten aus Forschung\, Wirtschaft und Bildung und versteht sich als Forum f
 ür neue Technologien rund um die Photonik.\nZur 510. Ausgabe des Kolloqui
 ums freuen wir uns auf Prof. Dr. Aydogan Ozcan und seinen Vortrag\nFrom Vi
 rtual Staining to Diffractive Optical Networks: The Fusion of AI and Optic
 s\nDer Vortrag gibt einen kompakten Überblick über aktuelle Fortschritte
  beim Einsatz tiefer neuronaler Netzwerke in der rechnergestützten Mikros
 kopie und Sensorik – mit Fokus auf biomedizinische Anwendungen wie das v
 irtuelle Färben von markierungsfreiem Gewebe für die digitale Pathologie
 .\n\nEin zentrales Thema sind diffraktive optische Netzwerke – durch Dee
 p Learning entworfene Oberflächen\, die komplexe Funktionen rein optisch 
 umsetzen. Sie ermöglichen neue Ansätze in der Bildverarbeitung\, Objektk
 lassifikation und im optischen Design.\n\nBeleuchtet werden insbesondere d
 rei Schlüsselbereiche dieser Technologie:\n(1) vollständig optische Infe
 renzmaschinen für statistische Aufgaben\n(2) neuartige Architekturen für
  Kameras und Mikroskope\n(3) aufgabenspezifisch entwickelte optische Syste
 me\n\nAnwendungsbeispiele aus Bereichen wie autonomen Systemen\, Sicherhei
 t\, Telekommunikation und biomedizinischer Bildgebung verdeutlichen das tr
 ansformative Potenzial dieser Ansätze.\nProf. Dr. Aydogan Ozcan\n\nDr. Ay
 dogan Ozcan ist Chancellor’s Professor und Inhaber des Volgenau Chair fo
 r Engineering Innovation an der UCLA sowie HHMI Professor am Howard Hughes
  Medical Institute. Darüber hinaus ist er stellvertretender Direktor des 
 California NanoSystems Institute.\nDr. Ozcan ist gewähltes Mitglied der N
 ational Academy of Engineering (NAE) und Fellow der National Academy of In
 ventors (NAI). Er hält über 85 erteilte Patente in den Bereichen Mikrosk
 opie\, Holografie\, rechnergestützte Bildgebung\, Sensorik\, mobile Diagn
 ostik\, nichtlineare Optik und Faseroptik. Zudem ist er Autor eines Buches
  und Mitautor von über 1.200 peer-reviewten Veröffentlichungen in führe
 nden wissenschaftlichen Fachzeitschriften und Konferenzen.\nFür seine weg
 weisenden Beiträge in den Bereichen Computational Imaging\, Sensorik und 
 Diagnostik wurde Dr. Ozcan mit zahlreichen renommierten Auszeichnungen gee
 hrt\, darunter:\n\n\n 	Presidential Early Career Award for Scientists and 
 Engineers (PECASE)\n 	ICO-Preis der International Commission for Optics\n 
 	Dennis Gabor Award (SPIE)\n 	Joseph Fraunhofer Award &amp\; Robert M. Bur
 ley Prize (Optica)\n 	Keith Terasaki Innovation Award\n 	SPIE Biophotonics
  Technology Innovator Award\n 	Rahmi-Koç-Wissenschaftsmedaille\n 	SPIE Ea
 rly Career Achievement Award\n 	Army Young Investigator Award\n 	NSF CAREE
 R Award\n 	NIH Director’s New Innovator Award\n 	Navy Young Investigator
  Award\n 	IEEE Photonics Society Young Investigator und Distinguished Lect
 urer Award\n 	National Geographic Emerging Explorer Award\n 	Grainger Foun
 dation Frontiers of Engineering Award (NAE)\n 	TR35 Award des MIT\n\nDr. O
 zcan ist gewählter Fellow von Optica\, AAAS\, SPIE\, IEEE\, AIMBE\, RSC\,
  APS und der Guggenheim Foundation sowie lebenslanger Fellow von Optica\, 
 NAI\, AAAS\, SPIE und APS. Zudem zählt ihn Web of Science (Clarivate) zu 
 den Highly Cited Researchers.\n\n\n\n\nTeilnahme und Buchungskonditionen 
 \n\n 	Die Veranstaltung ist offen für alle Interessierten und kann ab sof
 ort gebucht werden.\n 	Die Veranstaltung findet ausschließlich online sta
 tt\, Einwahllink: https://optonet-jena-de.zoom.us/j/89105746449\n 	Die Tei
 lnahme ist kostenfrei.\n 	Der Vortrag wird in englischer Sprache gehalten
 .\n\n\n\n\nDas JENAer Optikkolloquium wird unterstützt von: Carl Zeiss AG
  · Ernst-Abbe-Hochschule Jena · Fraunhofer-Institut für Angewandte Opti
 k und Feinmechanik · Friedrich-Schiller-Universität Jena · JENOPTIK AG 
 · Leibniz-Institut für Photonische Technologien e.V.\nVeranstalter ist O
 ptoNet e.V.\n\n\n\nHistorie\nDas JENAer Optikkolloquium geht auf eine Vera
 nstaltungsreihe der Jenaer Zeiss-Werke zurück\, die 1971 zunächst zur We
 iterbildung der Mitarbeiter:innen ins Leben gerufen wurde. Durch die Gewin
 nung hochkarätiger Referent:innen entwickelte es sich schnell zu einem wi
 chtigen Diskussionsforum der führenden Optikexperten des Landes.\n\nNach 
 1989 wurde das Kolloquium in Zusammenarbeit mit dem Institut für Angewand
 te Optik der Universität Jena\, vertreten durch Prof. Kowarschik\, weiter
 geführt und gewann durch die Beteiligung führender Wissenschaftler und U
 nternehmen und die Kooperation u.a. mit dem Fraunhofer IOF und dem Leibniz
  IPHT weiter an Bedeutung.\n\n\n\nHinweis\nMit Absendung dieses Anmeldefo
 rmulars stimmen Sie zu\, dass Ihr Name auf einer Teilnehmerliste geführt 
 wird\, die den übrigen Teilnehmer:innen zur Verfügung steht. Darüber hi
 naus sind Sie einverstanden\, dass Bilder der Veranstaltung auf unseren We
 bseiten und unseren Social Media Accounts gezeigt werden können\, sofern 
 Sie nicht vor der Veranstaltung ausdrücklich widersprechen.
ATTACH;FMTTYPE=image/jpeg:https://optonet-jena.de/wp-content/uploads/sites
 /6/2025/03/17R9747.jpg
CATEGORIES:JENAer Optikkolloqium
END:VEVENT
BEGIN:VTIMEZONE
TZID:Europe/Berlin
X-LIC-LOCATION:Europe/Berlin
BEGIN:DAYLIGHT
DTSTART:20250330T030000
TZOFFSETFROM:+0100
TZOFFSETTO:+0200
TZNAME:CEST
END:DAYLIGHT
END:VTIMEZONE
END:VCALENDAR