BEGIN:VCALENDAR
VERSION:2.0
PRODID:-//wp-events-plugin.com//6.6.4.4.2//EN
TZID:Europe/Berlin
X-WR-TIMEZONE:Europe/Berlin
BEGIN:VEVENT
UID:0-1146@optonet-jena.de
DTSTART;TZID=Europe/Berlin:20251124T170000
DTEND;TZID=Europe/Berlin:20251124T190000
DTSTAMP:20251105T070744Z
URL:https://optonet-jena.de/events/512-jenaer-optikkolloquium-%c2%b7-dr-mi
 chael-kempe/
SUMMARY:512. JENAer Optikkolloquium · Dr. Michael Kempe
DESCRIPTION:[vc_row][vc_column][vc_column_text css=""]\nSeit Mai 2018 finde
 t das traditionelle JENAer Carl-Zeiss-Optikkolloquium als JENAer Optikkoll
 oquium am Abbe Center of Photonics auf dem Beutenberg Campus Jena und onli
 ne statt. Es ist offen für alle Interessierten aus Forschung\, Wirtschaft
  und Bildung und versteht sich als Forum für neue Technologien rund um di
 e Photonik.\nZur 512. Ausgabe des Kolloquiums freuen wir uns auf Dr. Micha
 el Kempe und seinen Vortrag\n\n&nbsp\;\nOCT für die Biometrie in der Medi
 zin\nOptische Kohärenztomographie (OCT) hat sich als 3-dimensionale Bildg
 ebung in der Augenheilkunde in den letzten 30 Jahren als diagnostischer St
 andard etabliert. Seit den Anfängen war neben der dreidimensionalen Bildg
 ebung insbesondere das Potenzial zur 3D-Vermessung von Gewebe für die kli
 nischen Anwendung der OCT in Diagnostik\, intraoperative Visualisierung un
 d Biometrie von zentraler Bedeutung.\n\nIn diesem Vortrag werden die messt
 echnischen Eigenschaften von OCT und ihre technologische Entwicklung von t
 ime-domain bis swept-source OCT diskutiert und dabei insbesondere auf die 
 Anwendungen zur Auswahl von Intraokularlinsen zur Behandlung von Katarakt 
 und zur Diagnostik von Glaukom eingegangen. Abschließend wird eine neuere
  Anwendung zur Funktionaldiagnostik im Mittelohr betrachtet.\nDr. Michael 
 Kempe\nMichael Kempe ist Fellow der Carl Zeiss AG und Leiter des Bereichs 
 Advanced Development in der Ophthalmologie der Carl Zeiss Meditec AG. Der 
 Carl Zeiss AG gehörte er in verschiedenen Funktionen seit 1999 an.\n\nVon
  1995 bis 1999 war er wissenschaftlicher Mitarbeiter an der City Universit
 y of New York\, dem Wellman Laboratory des Massachusetts General Hospital 
 Boston und der Physikalisch-Technischen Bundesanstalt Berlin\, wo er sich 
 mit Forschung zu verschiedenen biomedizinischen Bildgebungsverfahren besch
 äftigte.\n\nMichael Kempe studierte Physik an der Friedrich-Schiller-Univ
 ersität Jena und schloss sein Studium 1990 als Diplomphysiker ab. An der 
 University of New Mexico in Albuquerque\, USA\, erhielt er 1994 einen Ph.D
 . in Optical Sciences. Im Rahmen seiner wissenschaftlichen Arbeit forschte
  er auf dem Gebiet der Anwendung ultrakurzer Lichtimpulse.\n\n\n\nTeilnahm
 e und Buchungskonditionen \n\n 	Die Veranstaltung ist offen für alle Int
 eressierten und kann ab sofort gebucht werden.\n 	Die Veranstaltung findet
  hybrid statt: Auditorium Abbe Center of Photonics\, Albert-Einstein-Str. 
 6\, 07745 Jena und online unter: https://optonet-jena-de.zoom.us/j/8342525
 8613\n 	Die Teilnahme ist kostenfrei.\n 	Der Vortrag wird in deutscher Sp
 rache gehalten.\n\n\n\n\nDas JENAer Optikkolloquium wird unterstützt von:
  Carl Zeiss AG · Ernst-Abbe-Hochschule Jena · Fraunhofer-Institut für A
 ngewandte Optik und Feinmechanik · Friedrich-Schiller-Universität Jena 
 · JENOPTIK AG · Leibniz-Institut für Photonische Technologien e.V.\nVer
 anstalter ist OptoNet e.V.\n\n\n\nHistorie\nDas JENAer Optikkolloquium geh
 t auf eine Veranstaltungsreihe der Jenaer Zeiss-Werke zurück\, die 1971 z
 unächst zur Weiterbildung der Mitarbeiter:innen ins Leben gerufen wurde. 
 Durch die Gewinnung hochkarätiger Referent:innen entwickelte es sich schn
 ell zu einem wichtigen Diskussionsforum der führenden Optikexperten des L
 andes.\n\nNach 1989 wurde das Kolloquium in Zusammenarbeit mit dem Institu
 t für Angewandte Optik der Universität Jena\, vertreten durch Prof. Kowa
 rschik\, weitergeführt und gewann durch die Beteiligung führender Wissen
 schaftler und Unternehmen und die Kooperation u.a. mit dem Fraunhofer IOF 
 und dem Leibniz IPHT weiter an Bedeutung.\n\n\n\nHinweis\nMit Absendung d
 ieses Anmeldeformulars stimmen Sie zu\, dass Ihr Name auf einer Teilnehmer
 liste geführt wird\, die den übrigen Teilnehmer:innen zur Verfügung ste
 ht. Darüber hinaus sind Sie einverstanden\, dass Bilder der Veranstaltung
  auf unseren Webseiten und unseren Social Media Accounts gezeigt werden k
 önnen\, sofern Sie nicht vor der Veranstaltung ausdrücklich widerspreche
 n.[/vc_column_text][/vc_column][/vc_row]
ATTACH;FMTTYPE=image/jpeg:https://optonet-jena.de/wp-content/uploads/sites
 /6/2025/03/17R9747.jpg
CATEGORIES:JENAer Optikkolloqium
LOCATION:Abbe Center of Photonics\, Albert-Einstein-Straße 6\, Jena\, Germ
 any\, 07745\, Thüringen\, Deutschland
GEO:50.90859330000001;11.568596399999933
X-APPLE-STRUCTURED-LOCATION;VALUE=URI;X-ADDRESS=Albert-Einstein-Straße 6\,
  Jena\, Germany\, 07745\, Thüringen\, Deutschland;X-APPLE-RADIUS=100;X-TI
 TLE=Abbe Center of Photonics:geo:50.90859330000001,11.568596399999933
END:VEVENT
BEGIN:VTIMEZONE
TZID:Europe/Berlin
X-LIC-LOCATION:Europe/Berlin
BEGIN:STANDARD
DTSTART:20251026T020000
TZOFFSETFROM:+0200
TZOFFSETTO:+0100
TZNAME:CET
END:STANDARD
END:VTIMEZONE
END:VCALENDAR