BEGIN:VCALENDAR
VERSION:2.0
PRODID:-//wp-events-plugin.com//6.6.4.4.2//EN
TZID:Europe/Berlin
X-WR-TIMEZONE:Europe/Berlin
BEGIN:VEVENT
UID:0-1198@optonet-jena.de
DTSTART;TZID=Europe/Berlin:20260609T140000
DTEND;TZID=Europe/Berlin:20260609T170000
DTSTAMP:20260421T083237Z
URL:https://optonet-jena.de/events/clustertreffenpog/
SUMMARY:OptoNet-Clustertreffen · Zu Gast bei POG Präzisionsoptik Gera
DESCRIPTION:Die POG Präzisionsoptik Gera GmbH öffnet ihre Türen für uns
 er zweites OptoNet-Clustertreffen in diesem Jahr und gibt exklusive Einbli
 cke in einen hochmodernen Produktionsstandort mit rund 250 Mitarbeitenden.
 \nIm Mittelpunkt steht die Unternehmensvorstellung von Geschäftsführer J
 an Schubach\, der gemeinsam mit Ray George die Firma mit Sitz in Löbichau
  bei Gera leitet. Auf 10.000 qm Fertigungsfläche – darunter 1.500 qm Re
 inraum – entstehen hier anspruchsvolle optische Systeme  und Mikrostruk
 turen für die Halbleiterindustrie\, Life Sciences und Defense. Bei der an
 schließenden Führung erleben Sie die Fertigung hautnah und erhalten zude
 m Einblicke in die geplanten Erweiterungen des Standorts.\nErgänzt wird d
 as Programm durch einen Fachimpuls von Dr. Jan Werschnik\, Geschäftsführ
 er der Photonics Precision Engineering GmbH. In seinem Beitrag gibt er Ein
 blicke in aktuelle Herausforderungen und Lösungsansätze in der Präzisio
 nsoptik.\n\nProgrammablauf\n14:00 Uhr | Begrüßung &amp\; Neuigkeiten aus
  dem OptoNet e.V.\nAnke Siegmeier · Geschäftsführerin OptoNet e.V.\nUnt
 ernehmensvorstellung \nJan Schubach · Geschäftsführer POG Präzisionso
 ptik Gera\nGastbeitrag: Präzision beginnt im Design – Optikengineering 
 für komplexe Anwendungen\nDr. Jan Werschnik · Geschäftsführer Photonic
 s Precision Engineering GmbH\n15:00 Uhr | Firmenrundgang\nanschließend Ne
 tworking bei Imbiss und Getränken\n17:00 Uhr | Ende der Veranstaltung\n\n
 Ihre Teilnahme\n\n 	Die Veranstaltung kann ab sofort gebucht werden. Es st
 ehen max. 40 Plätze zur Verfügung.\n 	Die Teilnahme ist für Mitglieder 
 des OptoNet e.V. kostenfrei.\n 	Interessierte ohne Mitgliedschaft können 
 für 59 EUR an der Veranstaltung teilnehmen.\n\nAnfahrt &amp\; Parkmögli
 chkeiten\n\n 	Anschrift &amp\; Routenplanung\n 	Parkmöglichkeiten stehen 
 auf dem Firmengelände ausreichend zur Verfügung.\n
ATTACH;FMTTYPE=image/jpeg:https://optonet-jena.de/wp-content/uploads/sites
 /6/2026/04/POG.png
CATEGORIES:OptoNet-Clustertreffen
LOCATION:POG Präzisionsoptik Gera GmbH\, Alte Str. 3\, 04626 Löbichau\, D
 eutschland
GEO:50.874545;12.226695
X-APPLE-STRUCTURED-LOCATION;VALUE=URI;X-ADDRESS=Alte Str. 3\, 04626 Löbich
 au\, Deutschland;X-APPLE-RADIUS=100;X-TITLE=POG Präzisionsoptik Gera GmbH
 :geo:50.874545,12.226695
END:VEVENT
BEGIN:VTIMEZONE
TZID:Europe/Berlin
X-LIC-LOCATION:Europe/Berlin
BEGIN:DAYLIGHT
DTSTART:20260329T030000
TZOFFSETFROM:+0100
TZOFFSETTO:+0200
TZNAME:CEST
END:DAYLIGHT
END:VTIMEZONE
END:VCALENDAR