BEGIN:VCALENDAR
VERSION:2.0
PRODID:-//wp-events-plugin.com//6.6.4.4.2//EN
TZID:Europe/Berlin
X-WR-TIMEZONE:Europe/Berlin
BEGIN:VEVENT
UID:0-1197@optonet-jena.de
DTSTART;TZID=Europe/Berlin;VALUE=DATE:20260624
DTEND;TZID=Europe/Berlin;VALUE=DATE:20260625
DTSTAMP:20260421T125827Z
URL:https://optonet-jena.de/events/exkursion-nach-berlin-feldheim/
SUMMARY:Vom Abfall zur Autarkie: Exkursion nach Berlin und Feldheim am 24. 
 Juni 2026
DESCRIPTION:Was im Arbeitskreis Nachhaltigkeit als Idee begann\, nimmt nun 
 konkrete Form an\, am 24. Juni 2026 laden wir gemeinsam mit dem Netzwerk T
 hEEN zu einer Exkursion nach Berlin und Feldheim (Brandenburg) ein.\nEs e
 rwartet Sie ein abwechslungsreicher Tag mit exklusiven Einblicken in zwei 
 Bereiche\, die für eine nachhaltige Zukunft von zentraler Bedeutung sind\
 , nämlich moderne Abfallwirtschaft und innovative Energieversorgung.\nErs
 te Station ist die Abfallsortieranlage der ALBA Group in Berlin-Marzahn. H
 ier zeigt sich anschaulich\, wie moderne Sensortechnologien und photonisch
 e Verfahren dabei helfen\, Wertstoffe präzise zu trennen\, Ressourcen zur
 ückzugewinnen und Stoffkreisläufe intelligent zu schließen. Techniken w
 ie Nahinfrarot-Spektroskopie oder hyperspektrale Bildgebung spielen in sol
 chen Anlagen eine zunehmend wichtige Rolle und machen Recycling im industr
 iellen Maßstab leistungsfähiger und ressourcenschonender.\nDie zweite St
 ation führt nach Feldheim\, Deutschlands erstem energieautarkem Dorf. Sei
 t 2010 versorgt sich die Gemeinde vollständig aus eigenen erneuerbaren Qu
 ellen. Was das Modell so bemerkenswert macht\, ist die Kombination aus Win
 dpark\, Biogasanlage\, Batteriespeicher und Nahwärmenetz\, die zusammen e
 ine stabile und unabhängige Versorgung ermöglichen.\nDie Exkursion macht
  sichtbar\, wo sich die Themenfelder beider Netzwerke berühren\, welche K
 ompetenzen sich verbinden lassen und wo daraus konkrete Ideen\, Partnersch
 aften und Projekte entstehen können.\n\nAgenda\nAbfahrt:\n07:30 Uhr in We
 imar (Treffpunkt wird rechtzeitig bekannt gegeben)\n08:00 Uhr in Jena (Tre
 ffpunkt wird rechtzeitig bekannt gegeben)\n\n11:45 Uhr\nBesichtigung der A
 bfallsortieranlage der Firma ALBA in Berlin Marzahn\n\n15:00 Uhr\nBesichti
 gung des energieautarken Ortsteils Feldheim der Stadt Treuenbrietzen\n\nR
 ückfahrt\nca. 17:00 Uhr\nBuchung\n\n 	Die Veranstaltung kann ab sofort ge
 bucht werden.\n 	Die Teilnahmegebühr beträgt für Mitglieder des OptoNet
  und ThEEN 149 EUR.\n 	Interessierte ohne Mitgliedschaft können für 250
  EUR an der Veranstaltung teilnehmen.\n 	Nach Eingang der Anmeldung erhal
 ten Sie eine Anmeldebestätigung.\n 	Stornierungen können nur in schriftl
 icher Form akzeptiert werden. Bis 10.06.2025 sind Stornierungen kostenfrei
 \, danach ist die volle Teilnehmergebühr zu entrichten. Gerne akzeptieren
  wir einen Ersatzteilnehmer:in.\n 	Wir behalten uns vor\, die Veranstaltun
 g bei zu geringer Teilnehmerzahl kurzfristig abzusagen.\n\n&nbsp\;\n\n&nbs
 p\;\n\n&nbsp\;\n\n&nbsp\;\n\n&nbsp\;\n\n&nbsp\;\n\nBildquelle: Interseroh/
 Alba
ATTACH;FMTTYPE=image/jpeg:https://optonet-jena.de/wp-content/uploads/sites
 /6/2026/04/2026-06-24-OptoNet-ThEEN-Busfahrt-NEU2.png
CATEGORIES:Arbeitskreis
END:VEVENT
BEGIN:VTIMEZONE
TZID:Europe/Berlin
X-LIC-LOCATION:Europe/Berlin
BEGIN:DAYLIGHT
DTSTART:20260329T030000
TZOFFSETFROM:+0100
TZOFFSETTO:+0200
TZNAME:CEST
END:DAYLIGHT
END:VTIMEZONE
END:VCALENDAR