BEGIN:VCALENDAR
VERSION:2.0
PRODID:-//wp-events-plugin.com//6.6.4.4.2//EN
TZID:Europe/Berlin
X-WR-TIMEZONE:Europe/Berlin
BEGIN:VEVENT
UID:0-1080@optonet-jena.de
DTSTART;TZID=Europe/Berlin:20260430T140000
DTEND;TZID=Europe/Berlin:20260430T170000
DTSTAMP:20260424T061039Z
URL:https://optonet-jena.de/events/master-tour-zu-vistec-electron-beam-202
 6/
SUMMARY:MASTER+ Tour zu Vistec Electron Beam
DESCRIPTION:Die Vistec Electron Beam GmbHist ein weltweit agierender Herste
 ller von Elektronenstrahl-Belichtungsanlagen\, die sowohl in der Halbleite
 rindustrie\, in der Mikro – und Nanooptik als auch in der Angewandten Fo
 rschung für vielfältige Anwendungen im Bereich der Mikro – und Nanostr
 ukturierung zum Einsatz kommen. \n\nAgenda\n\n\n\n 	14.00 Uhr Begrüßung
  und Firmenpräsentation\n 	Deep Dive: Elektronenstrahl-Lithographie\n 	Be
 sichtigung Reinraum\n\n&nbsp\;\n\n!!! Wichtig: Für unsere und die Planung
 en der Gastgeber bitten wir um kurze Anmeldung.\n\nAlle Studierende von un
 serem MASTER+ Programm sind herzlich eingeladen\, die Unternehmen und vor 
 allem die Technologie und die Menschen dahinter kennenzulernen und viele n
 eugierige Fragen zu stellen.\nÜber OptoNet MASTER+\nOptoNet MASTER+ ist d
 as Nachwuchsförderprogramm des OptoNet e.V.\, bei dem jedes Jahr ambition
 ierte Masterstudierende relevanter Studienfächer die Möglichkeit erhalte
 n\, die Unternehmen und Forschungsreinrichtungen des Photonikstandortes Th
 üringen kennenzulernen. Unternehmen aus dem Kreis der OptoNet Mitglieder 
 begleiten das Programm exklusiv\, geben fachlichen Input und Tipps zum Kar
 rierestart.\n\n&nbsp\;\n\n\n\nHINWEIS\nMit Absendung dieses Anmeldeformula
 rs stimmen Sie zu\, dass Ihr Name auf einer Teilnehmerliste geführt wird\
 , die den übrigen Teilnehmer:innen zur Verfügung steht. Darüber hinaus 
 sind Sie einverstanden\, dass Bilder der Veranstaltung auf unseren Webseit
 en und unseren Social Media Accounts gezeigt werden können\, sofern Sie n
 icht vor der Veranstaltung ausdrücklich widersprechen.\n
CATEGORIES:OptoNet-Master+ Tour
LOCATION:Vistec Electron Beam GmbH\, Ilmstraße 4\, Jena\, Deutschland
GEO:50.947266;11.610474
X-APPLE-STRUCTURED-LOCATION;VALUE=URI;X-ADDRESS=Ilmstraße 4\, Jena\, Deuts
 chland;X-APPLE-RADIUS=100;X-TITLE=Vistec Electron Beam GmbH:geo:50.947266,
 11.610474
END:VEVENT
BEGIN:VTIMEZONE
TZID:Europe/Berlin
X-LIC-LOCATION:Europe/Berlin
BEGIN:DAYLIGHT
DTSTART:20260329T030000
TZOFFSETFROM:+0100
TZOFFSETTO:+0200
TZNAME:CEST
END:DAYLIGHT
END:VTIMEZONE
END:VCALENDAR