BEGIN:VCALENDAR
VERSION:2.0
PRODID:-//wp-events-plugin.com//6.6.4.4.2//EN
TZID:Europe/Berlin
X-WR-TIMEZONE:Europe/Berlin
BEGIN:VEVENT
UID:0-623@optonet-jena.de
DTSTART;TZID=Europe/Berlin;VALUE=DATE:20221212
DTEND;TZID=Europe/Berlin;VALUE=DATE:20221214
DTSTAMP:20221101T152555Z
URL:https://optonet-jena.de/events/oasis8-internationale-konferenz-und-aus
 stellung-fuer-optik-und-elektro-optik/
SUMMARY:OASIS8 - Internationale Konferenz und Ausstellung für Optik und El
 ektro-Optik
DESCRIPTION:OASIS8\, eine große Konferenz über Optik und Elektrooptik\, w
 ird am 12. und 13. Dezember 2022 in Tel Aviv\, ISRAEL\, stattfinden.\n\nEs
  ist die 8. in der Reihe sehr erfolgreicher zweijährlicher Konferenzen\, 
 die Forscher aus Israel und aus dem Ausland anziehen.\n\nMit 1500 Teilnehm
 enden und 15 Vortragssitzungen über die neuesten und wichtigsten Forschun
 gen und Entwicklungen in verschiedenen Disziplinen: Grundlagenforschung un
 d angewandte Forschung\, Ingenieurwesen und Industrie.\n\nEinige der Sitzu
 ngen sind Bereichen wie Laser und Anwendungen\, Mikro- und Nanooptik\, Med
 izin und Biologie\, Photonik in der Industrie\, Atom- und Quantenoptik\, o
 ptische Technik\, spektroskopische und optische Sensorik\, nichtlineare Op
 tik\, elektrooptische Geräte\, ultraschnelle Phänomene\, nichtlineare Op
 tik und Solarenergie gewidmet.\n\nOptecNet wird auch eine Delegationsreise
  und Ausstellungsmöglichkeiten anbieten. Wenn Sie Interesse haben\, wende
 n Sie sich bitte an Anke Siegmeier oder Mike Richardson.\n\nMehr Informati
 onen finden Sie hier»\n\nInformationen zu einem Ausstellerstand»\nZur An
 meldung geht es hier»
CATEGORIES:Konferenz | Tagung
LOCATION:David InterContinental Hotel\, Kaufmann Straße 12\, Tel Aviv-Yafo
 \, Israel
GEO:32.065362;34.76398
X-APPLE-STRUCTURED-LOCATION;VALUE=URI;X-ADDRESS=Kaufmann Straße 12\, Tel A
 viv-Yafo\, Israel;X-APPLE-RADIUS=100;X-TITLE=David InterContinental Hotel:
 geo:32.065362,34.76398
END:VEVENT
BEGIN:VTIMEZONE
TZID:Europe/Berlin
X-LIC-LOCATION:Europe/Berlin
BEGIN:STANDARD
DTSTART:20221030T020000
TZOFFSETFROM:+0200
TZOFFSETTO:+0100
TZNAME:CET
END:STANDARD
END:VTIMEZONE
END:VCALENDAR