BEGIN:VCALENDAR
VERSION:2.0
PRODID:-//wp-events-plugin.com//6.6.4.4.2//EN
TZID:Europe/Berlin
X-WR-TIMEZONE:Europe/Berlin
BEGIN:VEVENT
UID:0-1187@optonet-jena.de
DTSTART;TZID=Europe/Berlin:20260528T090000
DTEND;TZID=Europe/Berlin:20260528T120000
DTSTAMP:20260323T074450Z
URL:https://optonet-jena.de/events/optonet-arbeitskreis-nachhaltigkeit-%c2
 %b7-pfas-in-der-optikindustrie/
SUMMARY:OptoNet-Arbeitskreis Nachhaltigkeit · PFAS – Aktuelle Informatio
 nen zum Beschränkungsverfahren unter REACH
DESCRIPTION:PFAS (Per- und polyfluorierte Alkylsubstanzen) rücken regulato
 risch und marktseitig weiter in den Fokus und betreffen potenziell Materia
 lien\, Beschichtungen\, Dichtungen\, Klebstoffe\, Kabel\, Verpackungen sow
 ie viele Vorprodukte entlang der Lieferkette. In unserem Arbeitskreis Nach
 haltigkeit bringen wir den aktuellen Stand kompakt zusammen und diskutiere
 n praxisnahe Vorgehensweisen\, wie Unternehmen Risiken identifizieren\, Da
 ten beschaffen und Alternativen bewerten können.\nSchwerpunkte\n\n 	Regul
 atorik &amp\; REACH-Status: aktueller Stand\, Zeitplan\, Ausnahmen/Derogat
 ionen\n 	Betroffenheit &amp\; Screening: Materialdaten\, BOM/Stücklisten\
 , Lieferantenabfrage – wie Sie strukturiert vorgehen\n 	Alternativen &am
 p\; Innovationen: nachhaltige Materialien und neue Ansätze in der Optikin
 dustrie\n 	Diskussion &amp\; Austausch: Fragerunde\, Erfahrungen\, nächst
 e Schritte\n\nSie erhalten Klarheit zum REACH-Status und einen pragmatisch
 en Startpunkt für Screening\, Lieferantenkommunikation und Substitutionsa
 nsätze.\nUnsere Expertin\nDr. Frauke Averbeck ist Chemikerin und hat 2005
  an der Georg-August-Universität zu Göttingen promoviert. Seit 2008 ist 
 sie als Referentin bei der Bundesanstalt für Arbeitsschutz und Arbeitsmed
 izin (BAuA) im Fachbereich 5\, der Bundesstelle für Chemikalien (BfC)\, t
 ätig. Frau Dr. Averbeck hat langjährige Erfahrung mit den verschiedenen 
 Risikomanagementverfahren unter REACH. Im Rahmen des PFAS-Beschränkungsvo
 rhabens koordiniert sie unter anderem die nationalen Aktivitäten sowie di
 e gemeinsame Arbeit der Behörden aus den beteiligten Mitgliedstaaten.\nZi
 elgruppe\nFach- und Führungskräfte aus Nachhaltigkeit/ESG\, Einkauf &amp
 \; Supply Chain\, Qualität &amp\; Compliance\, Entwicklung/R&amp\;D\, Pro
 duktion sowie Produktmanagement\nTeilnahme und Buchungskonditionen\nDie Ve
 ranstaltung kann ab sofort gebucht werden.\nFür Mitglieder des OptoNet e.
 V. ist die Teilnahme kostenfrei.\nDie Zugangsdaten zum Webinar senden wir 
 Ihnen am Vortag per E-Mail zu. Bitte prüfen Sie sicherheitshalber auch Ih
 ren Spam-Ordner.
END:VEVENT
BEGIN:VTIMEZONE
TZID:Europe/Berlin
X-LIC-LOCATION:Europe/Berlin
BEGIN:DAYLIGHT
DTSTART:20260329T030000
TZOFFSETFROM:+0100
TZOFFSETTO:+0200
TZNAME:CEST
END:DAYLIGHT
END:VTIMEZONE
END:VCALENDAR