BEGIN:VCALENDAR
VERSION:2.0
PRODID:-//wp-events-plugin.com//6.6.4.4.2//EN
TZID:Europe/Berlin
X-WR-TIMEZONE:Europe/Berlin
BEGIN:VEVENT
UID:0-1170@optonet-jena.de
DTSTART;TZID=Europe/Berlin:20260421T170000
DTEND;TZID=Europe/Berlin:20260610T201500
DTSTAMP:20260421T123107Z
URL:https://optonet-jena.de/events/optonet-connect-fortgeschrittenes-deuts
 ch-b2/
SUMMARY:OptoNet Connect – Fortgeschrittenes Deutsch
DESCRIPTION:Die Integration internationaler Fachkräfte im Unternehmen und 
 im Alltag stellt für viele eine große Herausforderung dar. Das Leben in 
 Deutschland hält für Personen aus anderen Ländern viele Aufgaben bereit
 \, die es zu meistern gilt. Ein großer Faktor\, der für ein erfolgreiche
 s Miteinander im Unternehmen oder im Privaten relevant ist\, ist das Beher
 rschen der Landessprache. OptoNet hat dieses Format entwickelt\, um Ihren 
 internationalen Fachkräften die Integration zu erleichtern.\nFortgeschrit
 tenes Deutsch (B2)\nIn unserem insgesamt 10-tägigen Deutschkurs mit insge
 samt 40 Unterrichtsstunden werden die Teilnehmenden verschiedene Aspekte d
 er deutschen Sprache kennenlernen und sie trainieren. Dabei wird ein beson
 derer Fokus auf die Einbettung in berufliche und alltägliche Kontexte gel
 egt. Ziel ist es\, dass die Teilnehmenden die Sprache eigenständiger\, si
 cherer und situationsgerecht anwenden können.\nKerninhalte des Kurses\n\n
  	Kommunikation im Berufsalltag: Fachspezifische Konversationen\, Austausc
 h mit möglichen Kooperationspartnern\,...\n 	Alltagssprache in Deutschlan
 d: Kommunikation mit Freunden\, Austausch über komplexe Themen des Alltag
 s\, ...\n 	Fachliteratur: Arbeit mit wissenschaftlichen und nachrichtlich
 en Texten\, Formalität verschiedener Textsorten\, ...\n 	Unternehmensübe
 rgreifender Austausch: Zusammenarbeit mit anderen Fachkräften der Photoni
 kbranche\, Kennenlernen anderer Perspektiven\, ...\n 	Grammatik\, Wortscha
 tz &amp\; Redewendungen B2: Adressatengerechte Sprache\, Vorgangs- und Zus
 tandspassiv\, zweiteilige Konnektoren\, Konjunktiv I und II\, subjektive V
 erwendung von Modalverben\, ...\n 	Präsentationstechniken: Vorstellen eig
 ener berufsrelevanter Thematiken\, Reaktion auf Fragen\, Diskussionen\, ..
 .\n\nDer Dozent\nDie Leitung des Kurses übernimmt Paul Kreibich. Vor sein
 er Zeit bei OptoNet arbeitete er viele Jahre als Deutschlehrer in Integrat
 ionskursen sowie Berufs- und Fachsprachkursen für die Sprachniveaus A1–
 C2 und hat in diesem Bereich verschiedenste Zusatzqualifizierungen absolvi
 ert. Weiterhin arbeitete er als Prüfer für allgemeine Integrations- und 
 Berufssprachkurse bis zum Sprachniveau C1 und hat umfangreiche Erfahrungen
  mit Personen verschiedenen Alters\, verschiedener Herkunft und Hintergrü
 nde.\nZeitplan des Kurses\nDer Kurs findet an den folgenden 10 Abenden jew
 eils von 17:00–20:15 Uhr (inkl. 15 Minuten Pause) statt:\n\n\n\nApril\nM
 ai\nJuni\n\n\nDi\, 21.04.\nDi\, 05.05.\nDo\, 04.06.\n\n\nDi\, 28.04.\nDo\,
  07.05.\nMi\, 10.06.\n\n\nDo\, 30.04.\nMi\, 13.05.\n\n\n\n\nDi\, 19.05.\n\
 n\n\n\nDi\, 26.05.\n\n\n\n\n\n\n\n\n\nTeilnahmegebühr\nZum Start unseres 
 neuen Formates bieten wir einen exklusiven Pilotgruppenpreis von 390\,00 E
 UR für Mitgliedsunternehmen und 590\,00 EUR für Nicht-Mitglieder. Der Pr
 eis beinhaltet alle Kursmaterialien. Mitgliedsunternehmen werden bei einer
  hohen Nachfrage bevorzugt bei der Platzvergabe berücksichtigt.\nSonstige
 s\nAlle Teilnehmenden erhalten nach erfolgreicher und regelmäßiger Teiln
 ahme am Kurs ein OptoNet–Teilnahmezertifikat. Bitte beachten Sie\, dass 
 dieses Zertifikat kein offizieller Sprachnachweis ist\, da diese nur von a
 nerkannten Prüfstellen ausgestellt werden dürfen.\nTeilnahmevoraussetzun
 gen und Buchungskonditionen\nFür eine zielführende Sprachvermittlung fü
 r das Zielniveau ist es erforderlich\, dass die Teilnehmenden vor Beginn d
 es Kurses bereits alltagstaugliche Deutschkenntnisse haben\, die in etwa d
 em Sprachniveau B1 entsprechen sollten. Das heißt\, dass sie in den meist
 en routinemäßigen Alltagssituationen und in ausgewählten beruflichen Ko
 mmunikationssituationen agieren können.\n\nDer Kurs hat eine Kapazität v
 on 12 Plätzen. OptoNet behält sich das Recht vor\, bei hoher Nachfrage d
 ie Teilnehmendenzahl pro Unternehmen zu limitieren.\n\nStornobedingungen: 
 Stornierungen können nur in schriftlicher Form akzeptiert werden. Bis 14.
 04.2026 sind Stornierungen kostenfrei\, danach ist die volle Teilnehmergeb
 ühr zu entrichten. Gerne akzeptieren wir einen Ersatzteilnehmer:in.\nHinw
 eis\nMit der Anmeldung stimmen Sie zu\, dass Ihr Name auf der Teilnahmelis
 te erscheint und Fotos der Veranstaltung veröffentlicht werden dürfen 
 – sofern Sie dem nicht vorher widersprechen.
ATTACH;FMTTYPE=image/jpeg:https://optonet-jena.de/wp-content/uploads/sites
 /6/2018/09/optonet_title_laser_jena-temp.jpg
LOCATION:OptoNet e.V.\, Leutragraben 1\, Jena\, 07743\, Deutschland
GEO:50.92856;11.584346
X-APPLE-STRUCTURED-LOCATION;VALUE=URI;X-ADDRESS=Leutragraben 1\, Jena\, 077
 43\, Deutschland;X-APPLE-RADIUS=100;X-TITLE=OptoNet e.V.:geo:50.92856,11.5
 84346
END:VEVENT
BEGIN:VTIMEZONE
TZID:Europe/Berlin
X-LIC-LOCATION:Europe/Berlin
BEGIN:DAYLIGHT
DTSTART:20260329T030000
TZOFFSETFROM:+0100
TZOFFSETTO:+0200
TZNAME:CEST
END:DAYLIGHT
END:VTIMEZONE
END:VCALENDAR