BEGIN:VCALENDAR
VERSION:2.0
PRODID:-//wp-events-plugin.com//6.6.4.4.2//EN
TZID:Europe/Berlin
X-WR-TIMEZONE:Europe/Berlin
BEGIN:VEVENT
UID:0-439@optonet-jena.de
DTSTART;TZID=Europe/Berlin:20211012T100000
DTEND;TZID=Europe/Berlin:20211012T120000
DTSTAMP:20210802T081652Z
URL:https://optonet-jena.de/events/optonet-mitgliederversammlung-2021/
SUMMARY:OptoNet-Mitgliederversammlung 2021
DESCRIPTION:VORANKÜNDIGUNG\nWir blicken auf ein besonderes\, aber erfolgre
 iches Vereinsjahr zurück – das für Sie und für uns mit vielen neuen H
 erausforderungen verbunden war.\nZur Mitgliederversammlung möchten wir da
 s vergangene Jahr bilanzieren und Ihnen unsere Pläne und Projekte für 20
 22 vorstellen. \nTagesordnung\n\n 	Begrüßung\n 	Bericht des Vorstandes 
 &amp\; der Geschäftsführung (einschl. Kassenbericht)\n 	Bericht der Rech
 nungsprüfung\n 	Diskussion der Berichte\n 	Entlastung des Vorstandes\n 	F
 estsetzung der Mitgliedsbeiträge 2022\n 	Verschiedenes\n\nTeilnahme\nAlle
  Mitglieder sind herzlich eingeladen. Eine offizielle Einladung geht Ihnen
  fristgemäß per Email zu.\nDie Teilnahme ist persönlich oder per Livest
 ream möglich.\nWenn Sie nicht teilnehmen können\, besteht die Möglichke
 it\, Ihr Stimmrecht an ein anderes Mitglied zu übertragen. Sie können di
 es bei Ihrer Anmeldung gern im Anmerkungsfeld mitteilen.\nInfektionsschutz
 \n\n 	Wir sichern allen Teilnehmer:innen vor Ort ein der Infektionslage an
 gepasstes Hygienekonzept zu.\n 	Neben den allgemein gültigen Hygienerege
 ln empfehlen wir allen Teilnehmer:innen ohne Impfschutz einen eigenverantw
 ortlichen Schnelltest vor der Veranstaltung oder die Teilnahme via Livestr
 eam.\n\nWir freuen uns auf ein Wiedersehen. 
CATEGORIES:OptoNet-Mitgliederversammlung
LOCATION:Abbe Center of Photonics\, Albert-Einstein-Straße 6\, Jena\, Germ
 any\, 07745\, Thüringen\, Deutschland
GEO:50.90859330000001;11.568596399999933
X-APPLE-STRUCTURED-LOCATION;VALUE=URI;X-ADDRESS=Albert-Einstein-Straße 6\,
  Jena\, Germany\, 07745\, Thüringen\, Deutschland;X-APPLE-RADIUS=100;X-TI
 TLE=Abbe Center of Photonics:geo:50.90859330000001,11.568596399999933
END:VEVENT
BEGIN:VTIMEZONE
TZID:Europe/Berlin
X-LIC-LOCATION:Europe/Berlin
BEGIN:DAYLIGHT
DTSTART:20210328T030000
TZOFFSETFROM:+0100
TZOFFSETTO:+0200
TZNAME:CEST
END:DAYLIGHT
END:VTIMEZONE
END:VCALENDAR