BEGIN:VCALENDAR
VERSION:2.0
PRODID:-//wp-events-plugin.com//6.6.4.4.2//EN
TZID:Europe/Berlin
X-WR-TIMEZONE:Europe/Berlin
BEGIN:VEVENT
UID:0-523@optonet-jena.de
DTSTART;TZID=Europe/Berlin:20220704T090000
DTEND;TZID=Europe/Berlin:20220708T163000
DTSTAMP:20220729T104621Z
URL:https://optonet-jena.de/events/optonet-summer-course-2022/
SUMMARY:OptoNet Summer Course • Fast Physical Optics Modeling and Design
DESCRIPTION:As end users are expecting more demanding performances\, optica
 l systems designers and manufacturers are faced with growing challenges. W
 e proudly announce the 2nd OptoNet Summer School 'Advanced Lens Design'\,
  which is intended to provide high professional practical training. It aim
 s at technicians\, engineers and researchers who are involved in optical s
 ystems design of imaging systems and need more theoretical insight and pra
 ctical experience in that field.
ATTACH;FMTTYPE=image/jpeg:https://optonet-jena.de/wp-content/uploads/sites
 /6/2022/05/Summer-Course-Header.jpg
CATEGORIES:OptoNet-Seminar,Training | Weiterbildung
LOCATION:SCALA Panoramabankett\, Leutragraben 1\, Jena\, Thüringen\, 07743
 \, Thüringen\, Deutschland
GEO:50.92856;11.584346299999993
X-APPLE-STRUCTURED-LOCATION;VALUE=URI;X-ADDRESS=Leutragraben 1\, Jena\, Th
 üringen\, 07743\, Thüringen\, Deutschland;X-APPLE-RADIUS=100;X-TITLE=SCA
 LA Panoramabankett:geo:50.92856,11.584346299999993
END:VEVENT
BEGIN:VTIMEZONE
TZID:Europe/Berlin
X-LIC-LOCATION:Europe/Berlin
BEGIN:DAYLIGHT
DTSTART:20220327T030000
TZOFFSETFROM:+0100
TZOFFSETTO:+0200
TZNAME:CEST
END:DAYLIGHT
END:VTIMEZONE
END:VCALENDAR