BEGIN:VCALENDAR
VERSION:2.0
PRODID:-//wp-events-plugin.com//6.6.4.4.2//EN
TZID:Europe/Berlin
X-WR-TIMEZONE:Europe/Berlin
BEGIN:VEVENT
UID:0-1175@optonet-jena.de
DTSTART;TZID=Europe/Berlin;VALUE=DATE:20260908
DTEND;TZID=Europe/Berlin;VALUE=DATE:20260910
DTSTAMP:20260312T084007Z
URL:https://optonet-jena.de/events/optonet-workshop-upm/
SUMMARY:OptoNet Workshop · Ultra Precision Manufacturing of Aspheres and F
 reeforms
DESCRIPTION:WORKSHOP • EXHIBITION • DINNER RECEPTION\nIt’s time to me
 et again: We are looking forward to the 12th edition of the OptoNet Worksh
 op ›Ultra Precision Manufacturing of Aspheres and Freeforms‹. Meet the
  community and find out about the latest technologies and developments. \
 n\nFraunhofer IOF and OptoNet e.V. are happy to provide extended space for
  exhibitors and more opportunities for business and networking like last t
 ime.\n\nIn 2026 we will focus on\n\n 	Freeform optics for novel applicatio
 ns\n 	Mid spatial frequency errors\n 	Freeform optical systems and\n 	Man
 ufacturing and characterization of freeform surfaces\n\nWe look forward to
  seeing familiar and new colleagues\, to exciting presentations and intere
 sting exhibitors.\n\n\nTo the event website
ATTACH;FMTTYPE=image/jpeg:https://optonet-jena.de/wp-content/uploads/sites
 /6/2026/02/2026-02-04-Motiv-Header_UPM-Workshop-2026.jpg
CATEGORIES:OptoNet-Workshop
LOCATION:Abbe Center of Photonics\, Albert-Einstein-Straße 6\, Jena\, Germ
 any\, 07745\, Thüringen\, Deutschland
GEO:50.90859330000001;11.568596399999933
X-APPLE-STRUCTURED-LOCATION;VALUE=URI;X-ADDRESS=Albert-Einstein-Straße 6\,
  Jena\, Germany\, 07745\, Thüringen\, Deutschland;X-APPLE-RADIUS=100;X-TI
 TLE=Abbe Center of Photonics:geo:50.90859330000001,11.568596399999933
END:VEVENT
BEGIN:VTIMEZONE
TZID:Europe/Berlin
X-LIC-LOCATION:Europe/Berlin
BEGIN:DAYLIGHT
DTSTART:20260329T030000
TZOFFSETFROM:+0100
TZOFFSETTO:+0200
TZNAME:CEST
END:DAYLIGHT
END:VTIMEZONE
END:VCALENDAR