BEGIN:VCALENDAR
VERSION:2.0
PRODID:-//wp-events-plugin.com//6.6.4.4.2//EN
TZID:Europe/Berlin
X-WR-TIMEZONE:Europe/Berlin
BEGIN:VEVENT
UID:0-601@optonet-jena.de
DTSTART;TZID=Europe/Berlin;VALUE=DATE:20221005
DTEND;TZID=Europe/Berlin;VALUE=DATE:20221007
DTSTAMP:20220927T160839Z
URL:https://optonet-jena.de/events/photonics-days-jena-2022/
SUMMARY:Photonics Days Jena 2022
DESCRIPTION:\n\nMit den »Photonics Days Jena« laden das Fraunhofer-Instit
 ut für Angewandte Optik und Feinmechanik IOF und die Max Planck School of
  Photonics vom 5. bis 6. Oktober 2022 erneut zu ihrem internationalen Karr
 iere- und Netzwerkevent für Studierende und Promovierende ein. Anmeldesch
 luss ist der 25. September. Die Teilnahme ist kostenlos und sowohl virtuel
 l als auch in Präsenz in Jena möglich.\n\nUm junge Talente und damit Inn
 ovationen in den Bereichen Optik und Photonik zu fördern\, richtet das Fr
 aunhofer IOF gemeinsam mit der Graduiertenschule Max Planck School of Phot
 onics auch in diesem Jahr wieder die »Photonics Days Jena« aus: ein inte
 rnationales Netzwerk- und Karriereevent für Studierende und Promovierende
 .\n\nVom 5. bis 6. Oktober laden die Veranstalter bei dem erneut hybriden 
 Event dazu ein\, sich mit einer internationalen Community sowie Vertreteri
 nnen und Vertretern renommierter Unternehmen zu vernetzen. Neben dem fachl
 ichen Austausch stehen dabei die Orientierung in Karrierefragen sowie die 
 Vermittlung wertvoller Kontakte für die eigene berufliche Laufbahn im Vor
 dergrund. Doch auch die Aneignung wissenschaftlicher Fertigkeiten kommt da
 bei nicht zu kurz.\n#explore: Die Zukunft der Optik und (Quanten-)Photonik
  entdecken\n[caption id="attachment_12447" align="alignright" width="200"]
  © Fraunhofer IOF Das Fraunhofer IOF erforscht Komponenten für Quantenco
 mputer der nächsten Generation\, hier z. B. eine laserbasierte Adressiero
 ptik für eine Ionenfalle. Mehr darüber erfahren Teilnehmende in der Vort
 ragsreihe »Photonics4Future«.[/caption]\n\nUnter dem Motto #explore wart
 et bereits am ersten Veranstaltungstag ein abwechslungsreiches Programm au
 f die Teilnehmenden. In der Vortragsreihe »Photonics4Future« werden von 
 Forschenden verschiedene photonische Zukunftsmärkte vorgestellt. Einen be
 sonderen Schwerpunkt bilden dabei in diesem Jahr die Quantentechnologien: 
 Lectures zur hochsicheren Quantenkommunikation für die digitale Demokrati
 e sowie zur Hardware-Entwicklung für Quantencomputer bieten den Teilnehme
 nden Einblicke in spannende Zukunftsfelder der Photonik. Auch die Frage\, 
 wie neueste Sensorik die Heilungschancen bei Krebs verbessern kann\, wird 
 in einer Vorlesung beleuchtet. Ein Makeathon lädt indes dazu ein\, gemein
 sam kreativ zu werden und ein kleines Tech-Projekt umzusetzen.\n\nIn ihrer
  Keynote Lecture zum Thema »Miniaturization of optics – where does this
  journey go?« widmet sich die Wissenschaftlerin und Unternehmerin Dr. Rut
 h Houbertz den Herausforderungen ständiger Miniaturisierung von Optiken\,
  die gleichzeitig höchsten Qualitätsanforderungen gerecht werden müssen
 . Der Vortrag beleuchtet die Grenzen bestehender Verfahren und gibt einen 
 Überblick über Perspektiven\, Anwendungen und Märkte für miniaturisier
 te Optiken.\nAdressieroptik für eine Ionenfalle eines Quantencomputers.\n
 \nDie Verleihung des »Applied Photonics Award«\, dem Nachwuchspreis des 
 Fraunhofer IOF für innovative Abschlussarbeiten\, sowie ein Abendprogramm
  für alle Präsenzteilnehmenden in Jena runden den ersten Veranstaltungst
 ag stimmungsvoll ab.\n#engage: Die eigene Karriere mit starken Partnern ge
 stalten\n[caption id="attachment_12449" align="alignleft" width="200"] © 
 Fraunhofer IOF Bei einem Industry Breakfast lassen sich Firmenverteterinne
 n und -vertreter in entspannter Atmoshphäre kennen lernen.[/caption]\n\nD
 er zweite Veranstaltungstag nimmt wiederum die individuelle Karriereplanun
 g und aktive Vernetzung in den Fokus. Beim »Industry Breakfast« haben di
 e Präsenzteilnehmenden Gelegenheit\, wertvolle Kontakte zu etablierten Un
 ternehmen aus der Optik- und Photonikbranche knüpfen. Auf einer digitalen
  Karrieremesse können sie außerdem über den gesamten Tag hinweg Gesprä
 che mit attraktiven Arbeitgebern führen\, um die Möglichkeiten für Prak
 tika\, Abschlussarbeiten oder konkrete Jobangebote zu eruieren. Die Messe 
 wird auch in diesem Jahr wieder in Kooperation mit OPTICA (ehem. OSA\, Opt
 ical Society of America) veranstaltet und wir erhoffen uns\, die Teilnehme
 rzahl von fast 600 Studierenden und Promovierenden aus dem letzten Jahr no
 ch übertreffen zu können.\n\nHierzu bieten wir Unternehmen und Teilnehme
 nden vielfältige Vernetzungsmöglichkeiten wie 1:1 Videochats\, Company S
 essions oder der persönliche Kaffee vor Ort bei uns in Jena. Die „Photo
 nics Days Jena“ sind somit wieder eine attraktive Möglichkeit\, Reichwe
 ite und Präsenz für Ihre Firma zu gewinnen und mit motivierten Absolvent
 innen und Absolventen in Kontakt zu treten.\n\nParallel greifen virtuelle 
 Sessions karriererelevante Themen wie interkulturelle Kompetenz\, aber auc
 h persönliche Entwicklungsfelder wie Achtsamkeit oder Nachhaltigkeit auf.
  Bei einer Paneldiskussion werden Vertreterinnen und Vertreter aus Industr
 ie und Forschung darüber hinaus über Chancengleichheit und Diversität i
 n der Wissenschaft debattieren.\nStudierende und Promovierende lauschen ei
 ner Firmenpräsentation während des Frühstücks.\n\nWorkshops\, etwa zum
  akademischen Schreiben\, zum Präsentieren eigener Forschungsergebnisse s
 owie zur Anwendung von Social Media in der Wissenschaftskommunikation\, ve
 rtiefen das Angebot weiter und verfolgen das Ziel\, die wissenschaftliche 
 Exzellenz Nachwuchsforschender weiter zu fördern.\nProgramm\nDas aktuelle
  Programm mit weiteren Details finden Interessierte auch unter:\nProgramm 
 der Photonics Days Jena 2022\n\n&nbsp\;\nKostenlose Anmeldung bis zum 25. 
 September 2022\nAnmeldungen zu den hybriden »Photonics Days Jena« sind b
 is zum 25. September möglich. Die Teilnahme ist kostenlos. Zur Teilnahme 
 berechtigt sind Studierende und Promovierende. Die Veranstaltungssprache i
 st Englisch. Weitere Informationen gibt es unter www.photonicsdays.de sowi
 e photonics.days@iof.fraunhofer.de.\n\n\n\n\n\n\n\n\n\n\n\n
LOCATION:Fraunhofer IOF\, Albert-Einstein-Str. 7\, Jena\, Thüringen\, 0774
 5\, Deutschland
GEO:50.9082423;11.568061700000044
X-APPLE-STRUCTURED-LOCATION;VALUE=URI;X-ADDRESS=Albert-Einstein-Str. 7\, Je
 na\, Thüringen\, 07745\, Deutschland;X-APPLE-RADIUS=100;X-TITLE=Fraunhofe
 r IOF:geo:50.9082423,11.568061700000044
END:VEVENT
BEGIN:VTIMEZONE
TZID:Europe/Berlin
X-LIC-LOCATION:Europe/Berlin
BEGIN:DAYLIGHT
DTSTART:20220327T030000
TZOFFSETFROM:+0100
TZOFFSETTO:+0200
TZNAME:CEST
END:DAYLIGHT
END:VTIMEZONE
END:VCALENDAR