BEGIN:VCALENDAR
VERSION:2.0
PRODID:-//wp-events-plugin.com//6.6.4.4.2//EN
TZID:Europe/Berlin
X-WR-TIMEZONE:Europe/Berlin
BEGIN:VEVENT
UID:0-1213@optonet-jena.de
DTSTART;TZID=Europe/Berlin:20260703T150000
DTEND;TZID=Europe/Berlin:20260703T210000
DTSTAMP:20260422T111203Z
URL:https://optonet-jena.de/events/schoolsout-finals-optonet-mint-edition/
SUMMARY:SchoolsOut!!! Finals – OptoNet MINT Edition
DESCRIPTION:Sport verbindet und bringt junge\, motivierte Talente zusammen.
  Genau hier möchten wir in diesem Jahr ansetzen:\nJedes Jahr organisiert 
 der Sportverein "Sonne im Paradies e.V." vor den Sommerferien die "Schools
 Out!!! Finals"\, ein Beachvolleyballturnier\, bei dem junge Talente aus Je
 na und Umkreis ihr Können unter Beweis stellen.\n\nWir als OptoNet e.V. m
 öchten dieses etablierte Event erstmals mit einem MINT-Fokus bereichern u
 nd unseren Mitgliedsunternehmen die Möglichkeit geben\, sich vor Ort eine
 n exklusiven Zugang zu den Fachkräften von morgen zu sichern!\nZeigen Sie
  Gesicht und werden Sie Sponsor\nEin Sponsoring bietet Ihnen die Möglichk
 eit\, die SchoolsOut!!! Finals finanziell zu unterstützen und zugleich vo
 n Sichtbarkeit und weiteren Vorteilen zu profitieren. Melden Sie sich gern
 e bei uns\, wenn Sie Fragen oder individuelle Vorstellungen zum Sponsoring
  haben.\n\nDas Sponsoring-Paket für 300€ zzgl. MwSt. beinhaltet:\n\n 
 	Logo auf Trikots der Teams (Bei Buchung bis 12. Mai 2026\, an Position de
 s OptoNet Logos auf der Rückseite\, siehe Foto)\n 	Möglichkeit für eine
 n Ausstellerstand (6m²\, Stromanschluss\, Tisch und Bank)\n 	5 Minuten Pi
 tch zur Firmenpräsentation\n 	Möglichkeit zur Teilnahme an einem Showspi
 el nach der Vorrunde\n 	Möglichkeit zusammen mit den jungen Talenten nach
  der Vorrunde zusammen zu spielen\n 	Anmeldung eines Azubiteams für den r
 egulären Turnierbetrieb\n\n\n\n&nbsp\;\n\n&nbsp\;\n\n&nbsp\;\n\n&nbsp\;\n
 \n&nbsp\;\n\n&nbsp\;\n\n&nbsp\;\n\n&nbsp\;\n\n&nbsp\;\nZum Format\nDas Sch
 oolsOut!!! Finals Beachvolleyballturnier bietet Schülerinnen und Schüler
 n zwischen 14 und 18 Jahren die Möglichkeit\, am letzten Schultag einen a
 ktiven Start in die Ferien zu haben. Bereits zum 5. Mal findet dieses einz
 igartige Event statt und lockt jedes Jahr mehr als 100 motivierte Kinder u
 nd Jugendliche aus Jena und Umgebung zu den Beachvolleyballplätzen am Str
 andschleicher in Jena. 20 Teams können sich im Kampf um den ersten Platz 
 im QuattroBeach-Modus unter Beweis stellen und zeigen Motivation und Ehrge
 iz auf dem Feld.
ATTACH;FMTTYPE=image/jpeg:https://optonet-jena.de/wp-content/uploads/sites
 /6/2026/04/Foto-07.07.23-15-20-34-1536x1025-1.jpg
CATEGORIES:Fachkräftegewinnung
LOCATION:Strandschleicher\, Schleichersee\, Jena\, Thüringen\, 07745\, Deu
 tschland
GEO:50.912912;11.577431
X-APPLE-STRUCTURED-LOCATION;VALUE=URI;X-ADDRESS=Schleichersee\, Jena\, Thü
 ringen\, 07745\, Deutschland;X-APPLE-RADIUS=100;X-TITLE=Strandschleicher:g
 eo:50.912912,11.577431
END:VEVENT
BEGIN:VTIMEZONE
TZID:Europe/Berlin
X-LIC-LOCATION:Europe/Berlin
BEGIN:DAYLIGHT
DTSTART:20260329T030000
TZOFFSETFROM:+0100
TZOFFSETTO:+0200
TZNAME:CEST
END:DAYLIGHT
END:VTIMEZONE
END:VCALENDAR