BEGIN:VCALENDAR
VERSION:2.0
PRODID:-//wp-events-plugin.com//6.6.4.4.2//EN
TZID:Europe/Berlin
X-WR-TIMEZONE:Europe/Berlin
BEGIN:VEVENT
UID:0-1040@optonet-jena.de
DTSTART;TZID=Europe/Berlin;VALUE=DATE:20250320
DTEND;TZID=Europe/Berlin;VALUE=DATE:20250321
DTSTAMP:20250214T091403Z
URL:https://optonet-jena.de/events/tag-der-impulse-2025/
SUMMARY:Tag der Impulse 2025
DESCRIPTION:Tag der Impulse 2025 – Gemeinsam die Zukunft der Führung ges
 talten!\nBeim Tag der Impulse treffen sich über 100 führende Köpfe aus 
 Wirtschaft und Wissenschaft zu einem Tag voller Inspiration\, praxisnaher 
 Impulse und exklusiven Networking-Möglichkeiten.\nEs erwarten Sie:\nInspi
 rierende Keynotes und High-Impact Sessions\, die praxisnahe Denkanstöße 
 und innovative Lösungsansätze bieten.\n\n 	 Panel-Diskussionen mit exze
 llenten\, regionalen Impulsgebern sowie internationale Vordenker.\n 	 Int
 eraktive Work Sessions\, die Ihnen konkrete Methoden an die Hand geben\, u
 m unternehmerische Herausforderungen erfolgreich zu meistern.\n 	Unschlagb
 are Networking-Möglichkeiten: Tauschen Sie sich in den Coffee-breaks und 
 bei der After Work Party mit anderen Führungskräften und Experten aus un
 d erweitern Sie Ihr Netzwerk für zukünftige Kooperationen.\n\nSven H. Ko
 rndörffer – Er eröffnet das Event mit einer Keynote\, die Führung neu
  denkt. Als ehemaliger Bereichsvorstand der Commerzbank und Vorsitzender d
 er Wertekommission hat er gezeigt\, wie Unternehmen durch klare Haltung un
 d strategische Kommunikation echte Wirkung entfalten. Seine Bücher „Die
  Wertschätzungskette“ und „Apropos Werte“ sind mehr als Bestseller 
 – sie sind ein Manifest für Führung mit Substanz.\nFolgende Vortragend
 e geben wertvolle Impulse:\nProf. Joachim Weber – Vordenker für Leaders
 hip und Projektmanagement\, ehemaliger Rektor der DHBW Stuttgart.\n\nAmeli
 e Wedel – Global Executive Director von Intelligence Squared\, Gestalter
 in von Kunststrategien für Wirtschaft und Gesellschaft.\n\nDaniel Brusch 
 – Co-Founder von Honeysales.io\, Experte für KI-gestützte Vertriebsstr
 ategien.\n\nDaniel Dendra – Gründer von anOther Architect\, Vordenker f
 ür nachhaltiges Design.\n\nProf. Stefanie Speidel – Pionierin für KI i
 n der Medizin\, Professorin an der TU Dresden.\nExklusiv für die Communit
 y von OptoNet:\nTAGESTICKET für 165 € statt 195 € mit Code BUSINESS25
 . Sichern Sie sich jetzt Ihr Ticket für den TDI2025 und erleben Sie Emerg
 enz in Aktion – wo aus Ideen echte Lösungen werden.\nAnmeldungen und we
 itere Infos unter: tdi.avanceacademy.eu
ATTACH;FMTTYPE=image/jpeg:https://optonet-jena.de/wp-content/uploads/sites
 /6/2025/02/TDI1.jpg
CATEGORIES:Training | Weiterbildung,Workshop
LOCATION:Jentower\, Leutragraben 1\, Jena\, Thüringen\, 07743\, Deutschlan
 d
GEO:50.92856;11.584346299999993
X-APPLE-STRUCTURED-LOCATION;VALUE=URI;X-ADDRESS=Leutragraben 1\, Jena\, Th
 üringen\, 07743\, Deutschland;X-APPLE-RADIUS=100;X-TITLE=Jentower:geo:50.
 92856,11.584346299999993
END:VEVENT
BEGIN:VTIMEZONE
TZID:Europe/Berlin
X-LIC-LOCATION:Europe/Berlin
BEGIN:STANDARD
DTSTART:20241027T020000
TZOFFSETFROM:+0200
TZOFFSETTO:+0100
TZNAME:CET
END:STANDARD
END:VTIMEZONE
END:VCALENDAR