BEGIN:VCALENDAR
VERSION:2.0
PRODID:-//wp-events-plugin.com//6.6.4.4.2//EN
TZID:Europe/Berlin
X-WR-TIMEZONE:Europe/Berlin
BEGIN:VEVENT
UID:0-1164@optonet-jena.de
DTSTART;TZID=Europe/Berlin;VALUE=DATE:20260325
DTEND;TZID=Europe/Berlin;VALUE=DATE:20260326
DTSTAMP:20251210T130221Z
URL:https://optonet-jena.de/events/tag-der-impulse-2026/
SUMMARY:Tag der Impulse 2026
DESCRIPTION:Tag der Impulse 2026 – Impulse für Resilienz und Emergenz\nB
 eim Tag der Impulse treffen sich über 100 führende Köpfe aus Wirtschaft
  und Wissenschaft zu einem Tag voller Inspiration\, praxisnaher Impulse un
 d exklusiven Networking-Möglichkeiten.\nEs erwarten Sie:\nInspirierende K
 eynotes und High-Impact Sessions\, die praxisnahe Denkanstöße und innova
 tive Lösungsansätze bieten.\n\n 	 Panel-Diskussionen mit exzellenten Im
 pulsgebern und Vordenkern.\n 	 Interaktive Work Sessions\, die Ihnen konk
 rete Methoden an die Hand geben\, um unternehmerische Herausforderungen er
 folgreich zu meistern.\n 	Unschlagbare Networking-Möglichkeiten: Tauschen
  Sie sich in den Coffee-breaks und bei der After Work Party mit anderen F
 ührungskräften und Experten aus und erweitern Sie Ihr Netzwerk für zuk
 ünftige Kooperationen.\n\nEarly Bird Angebot: 165€ statt 195€\n\nAnme
 ldungen und weitere Infos unter: Link
CATEGORIES:Training | Weiterbildung,Workshop
LOCATION:Jentower\, Leutragraben 1\, Jena\, Thüringen\, 07743\, Deutschlan
 d
GEO:50.92856;11.584346299999993
X-APPLE-STRUCTURED-LOCATION;VALUE=URI;X-ADDRESS=Leutragraben 1\, Jena\, Th
 üringen\, 07743\, Deutschland;X-APPLE-RADIUS=100;X-TITLE=Jentower:geo:50.
 92856,11.584346299999993
END:VEVENT
BEGIN:VTIMEZONE
TZID:Europe/Berlin
X-LIC-LOCATION:Europe/Berlin
BEGIN:STANDARD
DTSTART:20251026T020000
TZOFFSETFROM:+0200
TZOFFSETTO:+0100
TZNAME:CET
END:STANDARD
END:VTIMEZONE
END:VCALENDAR