BEGIN:VCALENDAR
VERSION:2.0
PRODID:-//wp-events-plugin.com//6.6.4.4.2//EN
TZID:Europe/Berlin
X-WR-TIMEZONE:Europe/Berlin
BEGIN:VEVENT
UID:0-871@optonet-jena.de
DTSTART;TZID=Europe/Berlin;VALUE=DATE:20240917
DTEND;TZID=Europe/Berlin;VALUE=DATE:20240919
DTSTAMP:20240917T073012Z
URL:https://optonet-jena.de/events/up2024/
SUMMARY:OptoNet Workshop · Ultra Precision Manufacturing of Aspheres and F
 reeforms
DESCRIPTION:WORKSHOP • EXHIBITION • DINNER RECEPTION\nIt’s time to me
 et again: We are looking forward to the 11th edition of the OptoNet worksh
 op ›Ultra Precision Manufacturing of Aspheres and Freeforms‹. Meet th
 e community and find out about the latest technologies and developments. 
 \n\nNEW Fraunhofer IOF and OptoNet e.V. are happy to provide extended spa
 ce for exhibitors and more opportunities for business and networking.\n\nI
 n 2024 we will focus on\n\n 	Freeform Optics in ground-based astronomy\n 
 	Freeform Optics in Space Applications\n 	Freeform Systems and Application
 s and\n 	Manufacturing and Characterization of Freeform Surfaces\n\nWe lo
 ok forward to seeing familiar and new colleagues\, to exciting presentatio
 ns and interesting exhibitors.\n\n&nbsp\;\n\nProgram\n\nTUESDAY\, Septembe
 r 17\n\n\n\n\n\n\n\n\n8:30 - 11:00 Exhibitors (Booth set up)\n\n11:00 Regi
 stration &amp\; Welcome snack\n\n\n\n12:00 Welcome note\nAnke Siegmeier 
 › OptoNet\, Germany\n\n&nbsp\;\n\n12:10 - 13:20 Part I · Freeform Optic
 s: From Design to Systems\n\n\nKEYNOTE\nTolerancing of Optical Systems wit
 h Real Freeform Surfaces\nHerbert Gross › Fraunhofer IOF\, Jena\, German
 y\n\nCentration and alignment considerations for aspheres and freeforms\nJ
 essica DeGroote Nelson › Edmund Optics\, Barrington\, USA\n\nFreeform Su
 rfaces in Spectrometer Systems\nThomas Peschel › Fraunhofer IOF\, Jena\,
  Germany\n\n&nbsp\;\n\n13:30 - 14:20 Exhibitor Session I\n\n#1 Moore Nanot
 echnology Systems LLC · Christopher Morgan\n\n#2 Schneider GmbH &amp\; Co
 . KG · Nikolaj Priebe\n\n#3 asphericon GmbH · Ulrike Fuchs\n\n#4 Dutch U
 nited Instruments · Jing Zou\n\n#5 DIOPTIC GmbH · Holger Sommer\n\n#6 AM
 ETEK Precitech Inc. · Jeff Roblee\n\n&nbsp\;\n\n14:30 Exhibition &amp\; C
 offee Break\n\n\n\n15:10 - 16:20 Part II · Freeform Optics in ground-base
 d astronomy\n\nKEYNOTE\nThe Extremely Large Telescope - the worlds biggest
  eye on the sky -  sharper views of cosmic objects than ever before\nFlor
 ian Kerber › European Southern Observatory\, Garching\, Germany\n\nDevel
 opment of Optical Systems for the Cold Optic Instrument of MICADO\nJan Kin
 ast › Fraunhofer IOF\, Jena\, Germany\n\n\nThe METIS IMAGER: from optica
 l design to final opto-mechanical design and manufacturing\nMaría Concepc
 ión Cárdenas Vázquez › Max-Planck-Institut für Astronomie\, Heidelbe
 rg\, Germany\n\n&nbsp\;\n\n16:20  Exhibition &amp\; Coffee Break\n\n\n\n1
 9:00 Evening event\n\naddress:  SCALA// Leutragraben 1 // Jena.\n\nThe ev
 ening event is kindly supported by Zeiss and Qioptiq.\n\n&nbsp\;\n\n\n\n\n
 \n\n\n\n\n\n\n\n\nWednesday\, September 18\n8:30 Registration\n\n&nbsp\;\n
 \n9:00 - 10:20 Part III · Freeform Optics in Space Applications\n\nKEYNOT
 E\nExtreme Space Telescope Design\, Fabrication\, and Testing\nKim Daewook
  › University of Arizona\, USA\n\n\n\nUltra Precise Manufacturing of Mir
 rors for Space Instruments\nBart van Venrooy › TNO\, Delft\, The Netherl
 ands\n\nSmall Sat Applications using Free Form Mirrors\nSebastian Fray ›
  OHB System AG\, Bremen\, Germany\n\n&nbsp\;\n\n10:20 Exhibition &amp\; Co
 ffee Break\n\n10:50 - 11:40 Exhibitor Session II\n\n#1 Innolite GmbH · Ch
 ristian Wenzel\n\n\n#2 Bühler Alzenau GmbH · Christian Schindler\n\n#3 M
 icro-LAM · Raitis Mednis\n\n#4 OptoTech Optikmaschinen GmbH · Matthias 
 Pfaff\n\n#5 Panasonic Connect Europe GmbH · Reinhard Windemuth\n\n&nbsp\;
 \n\n11:40 Exhibition &amp\; Lunch Break\n\n\n\n12:30 - 13:40 Part IV · Fr
 eeform Optics: Manufacturing and Characterization\n\nKEYNOTE\nDevelopment 
 Challenges of Ion Beam Figuring\nLynn Allen › Arling Consulting\, Fairpo
 rt\, NY USA\n\nManufacturing and characterization of an elliptical EUV col
 lector mirror for high-power EUV LPP sources\nTorsten Feigl › optiX fab 
 GmbH\, Jena\, Germany\n\n&nbsp\;\n\n13:40 Wrap up and Closure\nAnke Siegme
 ier › OptoNet\, Germany\n\n\n&nbsp\;\n\n13:45 Exhibition &amp\; Snacks &
 amp\; Coffee\n\n\n\n\n\n\n\n\nEXHIBITION\nTake the opportunity to present 
 your latest technologies to the workshop audience. This time\, the exhibit
 ion will be located in the conference area of the Fraunhofer IOF\, where a
 ll coffee and lunch breaks will take place and where we can provide exhibi
 tors with significantly more space.\n\nExhibitor bookings are now open!\
 n\nAn Exhibitor Ticket includes:\n\n 	6 sqm in the extended exhibition are
 a at the Fraunhofer IOF\n 	a regular participant ticket (incl. Evening re
 ception)\n 	NEW Opportunity of a 10-minute presentation in one of two ex
 hibitor sessions in the main workshop program\n 	1 table (70x140)\, 2 cha
 irs\n 	electricity &amp\; WiFi\n 	Please book a regular participant tick
 et for additional booth staff.\n\nExhibitors already registered 2024: AME
 TEK GmbH\, BU Precitech · asphericon GmbH · Bühler Alzenau GmbH · DIOP
 TIC GmbH · Dutch United Instruments · Innolite GmbH · Micro-LAM · Moor
 e Nanotechnology Systems LLC · OptoTech Optikmaschinen GmbH · Panasonic 
 Connect Europe GmbH · Physik Instrumente (PI) GmbH &amp\; Co. KG · Schne
 ider GmbH &amp\; Co. KG\n\n\n\nEvening Reception🍷\nWith a breathtaking
  view\, fine food and drinks\, we welcome you to our evening reception at 
 the SCALA Sky Conference in the city center of Jena. With the photonics pa
 radise of Jena at your feet\, you have the perfect setting for further dis
 cussions and networking.\n\n\n\nPAYMENT &amp\; Cancellation Policy\nAfter
  your registration you will receive a binding confirmation of participati
 on by email. If you have special requirements for your accounting (e.g. or
 der numbers or adresses)\, please send us an email within the next 5 days
 . For any question don’t hesitate to contact us.\n\nPlease let us know 
 asap about cancellations. Registration fees will not be refunded after Aug
 ust 17\, 2024.\n\n\n\nVENUE &amp\; HOTEL\nThe workshop takes place at th
 e Beutenberg Campus Jena.\n\nThe lecture program will be held at Abbe 
 Center of Photonics\,the academic center of scientific activities in the f
 ields of optics and photonics at the Friedrich Schiller University Jena 
 .\n\n&nbsp\;\n\n&nbsp\;\n\n&nbsp\;\n\nThe extended exhibition area is lo
 cated just a few meters away in the Fraunhofer IOF\, where everyone meet
 s for coffee and lunch breaks.\n\n&nbsp\;\n\n&nbsp\;\n\n&nbsp\;\n\nHow to 
 reach the Beutenberg Campus:\n\n 	By public transport: From the city cente
 r\, choose either of the bus lines 10\, 11\, 12 to reach the Beutenberg ca
 mpus.\n 	By car: It is not easy to approach the Beutenberg campus by car d
 ue to the lack of public parking lots at the campus. However\, if you wish
  to arrive by car\, use »Albert-Einstein-Str. 6« as major input for your
  GPS system.\n\nHotel recommendations:\n\n 	SCALA HOTEL \n 	DORINT ESPLAN
 ADE\n 	VIELHARMONIE\n 	ZUR NOLL\n 	EULENSTEINS\n\n\n\n\nWorkshop Ticker &a
 mp\; Social Media\nFor updated information\, speakers and more please fol
 low us on LinkedIn.\n\n\n\n&nbsp\;\nImpressions\n→ Hot spot for Photon
 ics: Jena\, the European capital of optical technologies. The Beutenberg 
 Campus is home to numerous institutes\, companys and laboratories – conn
 ected to optics and precision engineering.\n\n&nbsp\;\n\n&nbsp\;\n\n&nbsp\
 ;\n\n&nbsp\;\n\n&nbsp\;\n\n→ September 2018: Prof. Andreas Tünnermann
  opens the last workshop in Jena. After a forced break in 2020 it is now 
 time for the anniversary event.\n\n&nbsp\;\n\n&nbsp\;\n\n&nbsp\;\n\n&nbsp
 \;\n\n&nbsp\;\n\n&nbsp\;\n\n\n\n→ Guest from Rochester: Jannick Rollan
 d\, University of Rochester and Center for Freeform Optics\, speaks to the
  nearly 200 guests.\n\n&nbsp\;\n\n&nbsp\;\n\n&nbsp\;\n\n&nbsp\;\n\n&nbsp\;
 \n\n&nbsp\;\n\n&nbsp\;\n\n\n\n→ Time for exhibition and networking: Gue
 sts appreciate the balanced mix of technical presentations\, exhibition an
 d networking.\n\n&nbsp\;\n\n&nbsp\;\n\n&nbsp\;\n\n&nbsp\;\n\n&nbsp\;\n\n&n
 bsp\;
ATTACH;FMTTYPE=image/jpeg:https://optonet-jena.de/wp-content/uploads/sites
 /6/2024/02/2024-05-28-Motiv-Header.jpg
CATEGORIES:OptoNet-Workshop
LOCATION:Abbe Center of Photonics\, Albert-Einstein-Straße 6\, Jena\, Germ
 any\, 07745\, Thüringen\, Deutschland
GEO:50.90859330000001;11.568596399999933
X-APPLE-STRUCTURED-LOCATION;VALUE=URI;X-ADDRESS=Albert-Einstein-Straße 6\,
  Jena\, Germany\, 07745\, Thüringen\, Deutschland;X-APPLE-RADIUS=100;X-TI
 TLE=Abbe Center of Photonics:geo:50.90859330000001,11.568596399999933
END:VEVENT
BEGIN:VTIMEZONE
TZID:Europe/Berlin
X-LIC-LOCATION:Europe/Berlin
BEGIN:DAYLIGHT
DTSTART:20240331T030000
TZOFFSETFROM:+0100
TZOFFSETTO:+0200
TZNAME:CEST
END:DAYLIGHT
END:VTIMEZONE
END:VCALENDAR