BEGIN:VCALENDAR
VERSION:2.0
PRODID:-//wp-events-plugin.com//6.6.4.4.2//EN
TZID:Europe/Berlin
X-WR-TIMEZONE:Europe/Berlin
BEGIN:VEVENT
UID:0-403@optonet-jena.de
DTSTART;TZID=Europe/Berlin:20210603T160000
DTEND;TZID=Europe/Berlin:20210603T170000
DTSTAMP:20210602T132906Z
URL:https://optonet-jena.de/events/virtual-workshop-series-follow-the-ligh
 t-episode-4/
SUMMARY:Virtual Workshop Series • follow the light • Episode #4
DESCRIPTION:Vier Episoden ∙ Tolle Besetzung ∙ Neue Erkenntnisse\nWähre
 nd die klassische Optik an ihre Grenzen stößt\, machen Freiformoptiken d
 as physikalisch Machbare möglich und eröffnen Herstellern von Life-Scien
 ce-Produkten\, Automatisierungslösungen und Sensorik völlig neue Horizon
 te. fo+ [freeform optics plus] – ein Zusammenschluss von Wissenschaftl
 ern\, Entwicklern und Herstellern – bietet Anwendern aus Hightech-Bereic
 hen die Möglichkeit\, mehr über Freiformoptik\, ihre Einsatzgebiete und 
 optischen Eigenschaften zu erfahren.\nEpisode #4: Optical coatings for fre
 eform optics\nDie vierte Folge der virtuellen Workshopreihe beschäftigt s
 ich mit dem Thema Optische Beschichtungen für Freiformoptiken. In jedem o
 ptischen System tragen Beschichtungen wesentlich zur optimalen Leistung be
 i. Im Webinar geht es um die wichtigsten Anforderungen an Beschichtungen a
 uf freiformoptischen Elementen und wie diese mit modernsten Technologien e
 rfüllt werden können.\nExpertinnen und Experten vom Fraunhofer IOF und M
 aterion Balzers Optics präsentieren grundlegende Fakten und neueste exper
 imentelle Ergebnisse.\nUnsere Expert:innen\n\n[Freeform Optics Plus] at a 
 glance\nStephanie Hesse-Ertelt vom Fraunhofer IOF managt als Forschungsko
 ordinatorin den regionalen Wachstumskern fo+ über alle Partner und Entwic
 klungen entlang der Technologieplattform und stellt einen Überblick über
  den Verbund und die Ergebnisse des Fraunhofer IOF vor.\n\nLinkedIn Profil
 \n\n&nbsp\;\n\nWhy Coatings make a difference &amp\; What is best for High
 -Reflectance?\nStefan Jakobs von Materion Balzers Optics hat die Eignung 
 von rein dielektrischen und metall-dielektrischen Schichtsystemen für die
  Verspiegelung von Freiformoptiken untersucht. Er stellt Beschichtungsverf
 ahren und Schichtdesign sowie Ergebnisse für die spektrale Reflexion\, op
 tische Verluste und Laserzerstörschwelle vor.\n\n&nbsp\;\nAnti-Reflection
  coatings and nanostructures AR-plas\nUlrike Schulz vom Fraunhofer IOF be
 sitzt eine langjährige Expertise auf dem Gebiet der Kunststoffbeschichtun
 g und stellt verschiedene Verfahren zur Entspiegelung von Oberflächen vor
 . Besonders gute Eigenschaften auf Freiformoberflächen erreichen Kombinat
 ionen aus dünnen Schichten und Nanostrukturen.\n\nLinkedIn Profil\n\n&nbs
 p\;\nConformal Coatings by Atomic Layer Deposition\nAdriana Szeghalmi entw
 ickelt am Fraunhofer IOF und der FSU Jena dünne Schichten mittels Atomlag
 enabscheidung (ALD\, atomic layer deposition). Dieses Verfahren ermöglich
 t die gleichmäßige Beschichtung von komplex-geformten Optiken und Beugun
 gsgittern\, um deren Effizienz zu erhöhen.\n\nLinkedIn Profil\n\n&nbsp\;\
 nZielgruppe\n\n 	Anwender:innen und Hersteller:innen optischer Systeme\n 	
 Wissenschaftler:innen aus der Angewandten Forschung\n\nModeration\nAnke Ma
 nk | fo+ &amp\; OptoNet e.V.\n\n&nbsp\;\n\n\n\n\nTEILNAHME &amp\; BUCHUNG
 skonditionen\n\n 	Die Veranstaltung kann ab sofort gebucht werden\, es ste
 hen maximal 150 Plätze zur Verfügung.\n 	Die Teilnahme ist kostenfrei.
 \n 	Nach Eingang der Anmeldung erhalten Sie eine Anmeldebestätigung.\n 	R
 echtzeitig vor Veranstaltungsbeginn erhalten Sie per Email die Zugangsdate
 n für die digitale Workshopplattform ZOOM.\n\nHinweis\nMit Absendung dies
 es Anmeldeformulars stimmen Sie zu\, dass Ihr Name auf einer Teilnehmerlis
 te geführt wird\, die den übrigen Teilnehmern zur Verfügung steht. Sie 
 nehmen damit auch zur Kenntnis\, dass wir Bilder der Veranstaltung auf uns
 eren Webseiten und in den sozialen Medien zeigen.
ATTACH;FMTTYPE=image/jpeg:https://optonet-jena.de/wp-content/uploads/sites
 /6/2021/05/4_follow_the_light_OptoNet_Web-Header.jpg
CATEGORIES:Virtueller Workshop
END:VEVENT
BEGIN:VTIMEZONE
TZID:Europe/Berlin
X-LIC-LOCATION:Europe/Berlin
BEGIN:DAYLIGHT
DTSTART:20210328T030000
TZOFFSETFROM:+0100
TZOFFSETTO:+0200
TZNAME:CEST
END:DAYLIGHT
END:VTIMEZONE
END:VCALENDAR