BEGIN:VCALENDAR
VERSION:2.0
PRODID:-//wp-events-plugin.com//6.6.4.4.2//EN
TZID:Europe/Berlin
X-WR-TIMEZONE:Europe/Berlin
BEGIN:VEVENT
UID:0-582@optonet-jena.de
DTSTART;TZID=Europe/Berlin;VALUE=DATE:20220822
DTEND;TZID=Europe/Berlin;VALUE=DATE:20220824
DTSTAMP:20220718T084951Z
URL:https://optonet-jena.de/events/weiterbildungsseminar-einfuehrung-in-di
 e-multiphysikalische-strahlenoptik-modellierung/
SUMMARY:Weiterbildungsseminar: Einführung in die multiphysikalische Strahl
 enoptik-Modellierung
DESCRIPTION:Während der eineinhalbtägigen Weiterbildung machen wir Sie mi
 t den Möglichkeiten der Optik-Simulation in der COMSOL Multiphysics® Sim
 ulationsumgebung vertraut. Im Vordergrund steht die praktische Umsetzung s
 trahlenoptischer Simulationen\, um damit reale optische Systeme zu analysi
 eren. Die große Stärke von COMSOL ist die Möglichkeit\, die Strahlenopt
 ik-Berechnung nahtlos mit anderen physikalischen Prozessen wie Wärmetrans
 port oder Strukturmechanik zu koppeln. Dieser Aspekt wird im Kurs schwerpu
 nktmäßig diskutiert und Sie lernen\, was dabei beachtet werden muss.\n\n
 Anhand eines Fallbeispiels erlernen Sie den prinzipiellen Ablauf einer Sim
 ulation: Welches sind die wichtigen Schritte bei der Modellerstellung und 
 was muss man bei der Aufgabenstellung\, der Geometrie- und Modellerstellun
 g bis hin zum Postprocessing beachten? Schritt für Schritt gelangen Sie z
 u einem Modell\, welches Ihre Aufgabenstellung in gewünschter Genauigkeit
  beschreibt.\n\nFür die Teilnahme am Kurs benötigen Sie ein Standard-Not
 ebook zur Durchführung der Übungen und Sie erhalten eine zweiwöchige Vo
 llversion der COMSOL Multiphysics Simulationssoftware.\n\nIm Anschluss an 
 die Veranstaltung erhalten Sie ein Weiterbildungszertifikat.\n\nDen Flyer 
 zur Veranstaltung finden Sie hier.\n\nAnmeldeschluss ist der 12.08.2022.\n
 \nBitte beachten Sie\, dass die Teilnehmerzahl begrenzt ist!\nWir empfehle
 n Ihnen daher\, sich frühzeitig hier anzumelden.\nProgramm\nSeminarplan 1
 . Tag\n\n\n10:00 - 12:00 Uhr\nErstellung einer Finite-Elemente-Analyse mit
  COMSOL Multiphysics anhand eines Wärmetransport-Beispiels\n\n\n12:00 - 1
 3:00 Uhr\nÜbungszeit und Kaffeepause\n\n13:00 - 14:00 Uhr\nMittagspause\n
 \n14:00 - 16:00 Uhr\nStrahlenoptik-Simulation mit COMSOL Multiphysics &amp
 \; Randbedingungen\n\n16:00 - 17:00 Uhr\nÜbungszeit und Kaffeepause\n\nab
  19:00 Uhr\nGemeinsames Abendessen und Networking\n\nSeminarplan 2. Tag\n\
 n09:00 - 12:00 Uhr\nVernetzung\, Postprocessing und Multiphysik (Strahleno
 ptik mit Wärmetransport/Strukturmechanik)\n\n12:00 - 13:00 Uhr\nÜbungsze
 it\n\nab 13:00 Uhr\nAusgabe der Weiterbildungszertifikate und abschließen
 des Get-Together\nIhr Referent\nAndreas Bick arbeitet als Applications Eng
 ineer bei der Comsol Multiphysics GmbH. Seine Promotion führte er an der 
 Universität Hamburg durch\, wo er sich mit ultrakalten Quantengasen in ni
 cht-kubischen optischen Gittern\, hybriden Quantensystem\, optischen Reson
 atoren und mikromechanischen Oszillatoren beschäftigte.\nBetreuung währe
 nd der Übungszeiten\nAngepasst an die Teilnehmerzahl ist sichergestellt\,
  dass qualifizierte Ansprechpartner für die Beantwortung Ihrer Fragen und
  Problemstellungen vor Ort sind.
CATEGORIES:Training | Weiterbildung
LOCATION:HAWK - Hochschule für angewandte Wissenschaft und Kunst\, Von-Oss
 ietzky-Straße 99\, Göttingen\, 37085 \, Deutschland
GEO:51.521789;9.969643
X-APPLE-STRUCTURED-LOCATION;VALUE=URI;X-ADDRESS=Von-Ossietzky-Straße 99\, 
 Göttingen\, 37085 \, Deutschland;X-APPLE-RADIUS=100;X-TITLE=HAWK - Hochsc
 hule für angewandte Wissenschaft und Kunst:geo:51.521789,9.969643
END:VEVENT
BEGIN:VTIMEZONE
TZID:Europe/Berlin
X-LIC-LOCATION:Europe/Berlin
BEGIN:DAYLIGHT
DTSTART:20220327T030000
TZOFFSETFROM:+0100
TZOFFSETTO:+0200
TZNAME:CEST
END:DAYLIGHT
END:VTIMEZONE
END:VCALENDAR